BEGIN:VCALENDAR
VERSION:2.0
PRODID:-//Maison Julien Gracq - ECPv6.0.4//NONSGML v1.0//EN
CALSCALE:GREGORIAN
METHOD:PUBLISH
X-WR-CALNAME:Maison Julien Gracq
X-ORIGINAL-URL:https://maisonjuliengracq.fr
X-WR-CALDESC:Events for Maison Julien Gracq
REFRESH-INTERVAL;VALUE=DURATION:PT1H
X-Robots-Tag:noindex
X-PUBLISHED-TTL:PT1H
BEGIN:VTIMEZONE
TZID:Europe/Paris
BEGIN:DAYLIGHT
TZOFFSETFROM:+0100
TZOFFSETTO:+0200
TZNAME:CEST
DTSTART:20240331T010000
END:DAYLIGHT
BEGIN:STANDARD
TZOFFSETFROM:+0200
TZOFFSETTO:+0100
TZNAME:CET
DTSTART:20241027T010000
END:STANDARD
END:VTIMEZONE
BEGIN:VEVENT
DTSTART;TZID=Europe/Paris:20240912T190000
DTEND;TZID=Europe/Paris:20240912T200000
DTSTAMP:20260421T145534
CREATED:20240717T150450Z
LAST-MODIFIED:20240823T104031Z
UID:13265-1726167600-1726171200@maisonjuliengracq.fr
SUMMARY:Fenêtre sur Loire - Anouk Lejczyk\, Michèle Pedinielli et Axel Sourisseau
DESCRIPTION:Le samedi de 10h à 12h30\, un atelier d'écriture inédit avec une autrice ou un auteur en résidence à la Maison Julien Gracq		\n				\n				\n				\n			Avec Elise Goldberg : le 31 janvier - COMPLET 		\n				\n				\n				\n			Biographie d'Elise Godlberg		\n				\n				\n				\n			Avec Karim Kattan : le 7 février		\n				\n				\n				\n			Biographie de Karim Kattan		\n				\n				\n				\n			Avec Antonin Crenn : le 11 avril		\n				\n				\n				\n			Biographie de Maud Thiria		\n				\n				\n				\n			Avec Maud Thiria : le 2 mai		\n				\n				\n				\n			Biographie de Antonin Crenn		\n				\n				\n				\n			Avec  Selim-a Atallah Chettaoui: le 23 mai		\n				\n				\n				\n			Biographie de Selim-a Atallah Chettaoui		\n				\n				\n				\n			Avec  Gabriel Gauthier : le 24 octobre		\n				\n				\n				\n			Biographie de Gabriel Gauthier		\n				\n					\n		\n							\n		\n				\n						\n					\n			\n								\n						\n					\n			\n								\n				\n			Inscriptions		\n				\n				\n				\n					\n			\n			\n			\n\n			\n			\n								\n												\n								Nom							\n														\n											\n								\n												\n								Email							\n														\n											\n								\n												\n								Nombre de participants							\n									\n						\n								\n												\n								Ateliers 							\n														\n											\n								\n					\n						\n															\n																										\n																						Envoyer\n													\n					\n				\n			\n		\n				\n				\n					\n		\n				\n			\n									\n		\n							\n		\n					\n		\n							\n		\n				\n						\n					\n			\n								\n				\n					\n			\n						\n		\n				\n				\n				\n				\n							Pour venir aux évènements de la Maison Julien Gracq\, pensez au covoiturage.  						\n				\n				\n				\n			Réserver/Proposer une covoiturage
URL:https://maisonjuliengracq.fr/evenement/fenetre-sur-loire-anouk-lejczyk-michele-pedinielli-et-axel-sourisseau/
LOCATION:Maison Julien Gracq\, 1 rue du grenier à sel\, Saint-Florent-le-Vieil\, Mauges sur Loire\, 49410\, France
CATEGORIES:Fenêtre sur Loire
ATTACH;FMTTYPE=image/png:https://maisonjuliengracq.fr/wp-content/uploads/2024/06/Fenetre-sur-Loire-AL-MP-AS-e1733484293727.png
END:VEVENT
END:VCALENDAR