BEGIN:VCALENDAR
VERSION:2.0
PRODID:-//Maison Julien Gracq - ECPv6.0.4//NONSGML v1.0//EN
CALSCALE:GREGORIAN
METHOD:PUBLISH
X-ORIGINAL-URL:https://maisonjuliengracq.fr
X-WR-CALDESC:Events for Maison Julien Gracq
REFRESH-INTERVAL;VALUE=DURATION:PT1H
X-Robots-Tag:noindex
X-PUBLISHED-TTL:PT1H
BEGIN:VTIMEZONE
TZID:Europe/Paris
BEGIN:DAYLIGHT
TZOFFSETFROM:+0100
TZOFFSETTO:+0200
TZNAME:CEST
DTSTART:20240331T010000
END:DAYLIGHT
BEGIN:STANDARD
TZOFFSETFROM:+0200
TZOFFSETTO:+0100
TZNAME:CET
DTSTART:20241027T010000
END:STANDARD
END:VTIMEZONE
BEGIN:VEVENT
DTSTART;TZID=Europe/Paris:20241010T190000
DTEND;TZID=Europe/Paris:20241010T200000
DTSTAMP:20260416T142756
CREATED:20240717T150053Z
LAST-MODIFIED:20240930T090544Z
UID:13331-1728586800-1728590400@maisonjuliengracq.fr
SUMMARY:Fenêtre sur Loire - Faruk Šehić
DESCRIPTION:Le samedi de 10h à 12h30\, un atelier d'écriture inédit avec une autrice ou un auteur en résidence à la Maison Julien Gracq		\n				\n				\n				\n			Avec Elise Goldberg : le 31 janvier - COMPLET 		\n				\n				\n				\n			Biographie d'Elise Godlberg		\n				\n				\n				\n			Avec Karim Kattan : le 7 février		\n				\n				\n				\n			Biographie de Karim Kattan		\n				\n				\n				\n			Avec Antonin Crenn : le 11 avril		\n				\n				\n				\n			Biographie de Maud Thiria		\n				\n				\n				\n			Avec Maud Thiria : le 2 mai		\n				\n				\n				\n			Biographie de Antonin Crenn		\n				\n				\n				\n			Avec  Selim-a Atallah Chettaoui: le 23 mai		\n				\n				\n				\n			Biographie de Selim-a Atallah Chettaoui		\n				\n				\n				\n			Avec  Gabriel Gauthier : le 24 octobre		\n				\n				\n				\n			Biographie de Gabriel Gauthier		\n				\n					\n		\n							\n		\n				\n						\n					\n			\n								\n						\n					\n			\n								\n				\n			Inscriptions		\n				\n				\n				\n					\n			\n			\n			\n\n			\n			\n								\n												\n								Nom							\n														\n											\n								\n												\n								Email							\n														\n											\n								\n												\n								Nombre de participants							\n									\n						\n								\n												\n								Ateliers 							\n														\n											\n								\n					\n						\n															\n																										\n																						Envoyer\n													\n					\n				\n			\n		\n				\n				\n					\n		\n				\n			\n									\n		\n							\n		\n					\n		\n							\n		\n				\n						\n					\n			\n								\n				\n					\n			\n						\n		\n				\n				\n				\n				\n							Pour venir aux évènements de la Maison Julien Gracq\, pensez au covoiturage.  						\n				\n				\n				\n			Réserver/Proposer une covoiturage
URL:https://maisonjuliengracq.fr/evenement/fenetre-sur-loire-faruk-sehic/
LOCATION:Maison Julien Gracq\, 1 rue du grenier à sel\, Saint-Florent-le-Vieil\, Mauges sur Loire\, 49410\, France
CATEGORIES:Fenêtre sur Loire
ATTACH;FMTTYPE=image/webp:https://maisonjuliengracq.fr/wp-content/uploads/2023/11/Photo-Faruk-Sehic-par-Srdan-Veljovic-scaled-e1723799828124.webp
END:VEVENT
END:VCALENDAR