BEGIN:VCALENDAR
VERSION:2.0
PRODID:-//Maison Julien Gracq - ECPv6.0.4//NONSGML v1.0//EN
CALSCALE:GREGORIAN
METHOD:PUBLISH
X-WR-CALNAME:Maison Julien Gracq
X-ORIGINAL-URL:https://maisonjuliengracq.fr
X-WR-CALDESC:Events for Maison Julien Gracq
REFRESH-INTERVAL;VALUE=DURATION:PT1H
X-Robots-Tag:noindex
X-PUBLISHED-TTL:PT1H
BEGIN:VTIMEZONE
TZID:Europe/Paris
BEGIN:DAYLIGHT
TZOFFSETFROM:+0100
TZOFFSETTO:+0200
TZNAME:CEST
DTSTART:20230326T010000
END:DAYLIGHT
BEGIN:STANDARD
TZOFFSETFROM:+0200
TZOFFSETTO:+0100
TZNAME:CET
DTSTART:20231029T010000
END:STANDARD
END:VTIMEZONE
BEGIN:VEVENT
DTSTART;TZID=Europe/Paris:20230121T100000
DTEND;TZID=Europe/Paris:20230121T120000
DTSTAMP:20260422T053424
CREATED:20221220T145031Z
LAST-MODIFIED:20230117T144927Z
UID:3078-1674295200-1674302400@maisonjuliengracq.fr
SUMMARY:Écrire ensemble 1
DESCRIPTION:Deux heures d’atelier d’écriture avec Alexander Dickow dans la bibliothèque de la Maison. Jusqu’à 10 personnes. 						\n				\n				\n				\n			Inscription à l'atelier :		\n				\n				\n				\n					\n			\n			\n			\n\n			\n			\n								\n												\n								Nom et prénom							\n														\n											\n								\n												\n								Email							\n														\n											\n								\n												\n								Nombre de participants							\n									\n						\n								\n					\n						\n															\n																										\n																						Envoyer\n													\n					\n				\n			\n		\n				\n				\n					\n		\n							\n		\n				\n						\n					\n			\n								\n				\n					\n			\n						\n		\n				\n				\n				\n				\n							Pour venir aux évènements de la Maison Julien Gracq\, pensez au covoiturage.  						\n				\n				\n				\n			Réserver/Proposer un covoiturage
URL:https://maisonjuliengracq.fr/evenement/ecrire-ensemble-1/
LOCATION:Bibliothèque remarquable – Maison Julien Gracq\, 1 rue du grenier à sel\, Mauges-sur-loire\, 49410\, France
CATEGORIES:Écrire ensemble
ATTACH;FMTTYPE=image/jpeg:https://maisonjuliengracq.fr/wp-content/uploads/2022/12/©D.Drouet-0J2A3719-scaled.jpg
ORGANIZER;CN="Maison%20Julien%20Gracq":MAILTO:contact@maionjuliengracq.fr
END:VEVENT
END:VCALENDAR